BEGIN:VCALENDAR
VERSION:2.0
PRODID:-//jEvents 2.0 for Joomla//EN
CALSCALE:GREGORIAN
METHOD:PUBLISH
BEGIN:VTIMEZONE
TZID:Europe/Berlin
END:VTIMEZONE
BEGIN:VEVENT
UID:c6157a3d85e11247c13c66a01828ac25
CATEGORIES:Judo
CREATED:20140103T205649
SUMMARY:Judo Di. Schüler 5 bis 10 Jahre
LOCATION:TH GSG = Turnhalle Geschwister-Scholl-Gesamtschule
DESCRIPTION:Trainingszeiten JudoDienstag für Schüler 5 bis 10 Jahre\n
X-ALT-DESC;FMTTYPE=text/html:<h3>Trainingszeiten Judo</h3><p>Dienstag für Schüler 5 bis 10 Jahre</p>
DTSTAMP:20260421T024202
DTSTART;TZID=Europe/Berlin:20270119T170000
DTEND;TZID=Europe/Berlin:20270119T181500
SEQUENCE:0
TRANSP:OPAQUE
END:VEVENT
END:VCALENDAR