BEGIN:VCALENDAR
VERSION:2.0
PRODID:-//jEvents 2.0 for Joomla//EN
CALSCALE:GREGORIAN
METHOD:PUBLISH
BEGIN:VTIMEZONE
TZID:Europe/Berlin
END:VTIMEZONE
BEGIN:VEVENT
UID:efd6eadc040425405a2005ceecf45e26
CATEGORIES:Judo
CREATED:20211003T091612
SUMMARY:Judo/Taiso
LOCATION:TH GSG Turnhalle Geschwister-Scholl-Gesamtschule
DESCRIPTION:Taiso\n
X-ALT-DESC;FMTTYPE=text/html:<p>Taiso</p>
DTSTAMP:20260421T010652
DTSTART;TZID=Europe/Berlin:20270112T194500
DTEND;TZID=Europe/Berlin:20270112T211500
SEQUENCE:0
TRANSP:OPAQUE
END:VEVENT
END:VCALENDAR