BEGIN:VCALENDAR
VERSION:2.0
PRODID:-//jEvents 2.0 for Joomla//EN
CALSCALE:GREGORIAN
METHOD:PUBLISH
BEGIN:VTIMEZONE
TZID:Europe/Berlin
END:VTIMEZONE
BEGIN:VEVENT
UID:03c361f3e2e5f67798f6c11c12d2a312
CATEGORIES:Judo
CREATED:20140103T211251
SUMMARY:Judo Fr. Senioren
LOCATION:TH GSG = Turnhalle Geschwister-Scholl-Gesamtschule
DESCRIPTION:
DTSTAMP:20260421T023242
DTSTART;TZID=Europe/Berlin:20270129T194500
DTEND;TZID=Europe/Berlin:20270129T211500
SEQUENCE:0
TRANSP:OPAQUE
END:VEVENT
END:VCALENDAR