BEGIN:VCALENDAR
VERSION:2.0
PRODID:-//jEvents 2.0 for Joomla//EN
CALSCALE:GREGORIAN
METHOD:PUBLISH
BEGIN:VTIMEZONE
TZID:Europe/Berlin
BEGIN:STANDARD
DTSTART:20251207T190000
RDATE:20260329T030000
TZOFFSETFROM:+0200
TZOFFSETTO:+0100
TZNAME:Europe/Berlin CET
END:STANDARD
END:VTIMEZONE
BEGIN:VEVENT
UID:3ed63c5d7fd096b22857be97c4c1528b
CATEGORIES:Aikido
CREATED:20140103T195058
SUMMARY:Aikido Di (ab 15J.)
LOCATION:JR THK = Judoraum Turnhalle Kirschenallee
DESCRIPTION:Anfänger und Fortgeschritte\nab 15 Jahre\n
X-ALT-DESC;FMTTYPE=text/html:<p>Anfänger und Fortgeschritte</p><p>ab 15 Jahre</p>
DTSTAMP:20260420T210850
DTSTART;TZID=Europe/Berlin:20261208T190000
DTEND;TZID=Europe/Berlin:20261208T214500
SEQUENCE:0
TRANSP:OPAQUE
END:VEVENT
END:VCALENDAR