BEGIN:VCALENDAR
VERSION:2.0
PRODID:-//jEvents 2.0 for Joomla//EN
CALSCALE:GREGORIAN
METHOD:PUBLISH
BEGIN:VTIMEZONE
TZID:Europe/Berlin
END:VTIMEZONE
BEGIN:VEVENT
UID:d7357bff95c209396a0836d0a626fbae
CATEGORIES:Judo
CREATED:20140103T210405
SUMMARY:Judo Mi. Schüler 5 bis 10 Jahre
LOCATION:TH GSG = Turnhalle Geschwister-Scholl-Gesamtschule
DESCRIPTION:Judo Mi. Schüler 5 bis 10 Jahre\n
X-ALT-DESC;FMTTYPE=text/html:<p>Judo Mi. Schüler 5 bis 10 Jahre</p>
DTSTAMP:20260421T035136
DTSTART;TZID=Europe/Berlin:20270127T170000
DTEND;TZID=Europe/Berlin:20270127T181500
SEQUENCE:0
TRANSP:OPAQUE
END:VEVENT
END:VCALENDAR