BEGIN:VCALENDAR
VERSION:2.0
PRODID:-//jEvents 2.0 for Joomla//EN
CALSCALE:GREGORIAN
METHOD:PUBLISH
BEGIN:VTIMEZONE
TZID:Europe/Berlin
END:VTIMEZONE
BEGIN:VEVENT
UID:33904e467362e3df05242db76a1c75dc
CATEGORIES:Judo
CREATED:20140103T210810
SUMMARY:Judo Mi. Senioren
LOCATION:TH GSG = Turnhalle Geschwister-Scholl-Gesamtschule
DESCRIPTION:
DTSTAMP:20260421T002700
DTSTART;TZID=Europe/Berlin:20270106T194500
DTEND;TZID=Europe/Berlin:20270106T211500
SEQUENCE:0
TRANSP:OPAQUE
END:VEVENT
END:VCALENDAR