BEGIN:VCALENDAR
VERSION:2.0
PRODID:-//jEvents 2.0 for Joomla//EN
CALSCALE:GREGORIAN
METHOD:PUBLISH
BEGIN:VTIMEZONE
TZID:Europe/Berlin
END:VTIMEZONE
BEGIN:VEVENT
UID:807ffac1ad4ccfd36558e13cc7cecb3c
CATEGORIES:Judo
CREATED:20140103T211127
SUMMARY:Judo Fr. Jugend 10 bis 16 Jahre
LOCATION:TH GSG = Turnhalle Geschwister-Scholl-Gesamtschule
DESCRIPTION:<p>Judo Fr. Jugend 10 bis 16 Jahre</p>
DTSTAMP:20260421T040633
DTSTART;TZID=Europe/Berlin:20270108T183000
DTEND;TZID=Europe/Berlin:20270108T194500
SEQUENCE:0
TRANSP:OPAQUE
END:VEVENT
END:VCALENDAR